BEGIN:VCALENDAR
VERSION:2.0
PRODID:-//Global Executive Protection &amp; Investigation Services - ECPv6.15.16//NONSGML v1.0//EN
CALSCALE:GREGORIAN
METHOD:PUBLISH
X-ORIGINAL-URL:https://peelergroup.com
X-WR-CALDESC:Events for Global Executive Protection &amp; Investigation Services
REFRESH-INTERVAL;VALUE=DURATION:PT1H
X-Robots-Tag:noindex
X-PUBLISHED-TTL:PT1H
BEGIN:VTIMEZONE
TZID:America/New_York
BEGIN:DAYLIGHT
TZOFFSETFROM:-0500
TZOFFSETTO:-0400
TZNAME:EDT
DTSTART:20200308T070000
END:DAYLIGHT
BEGIN:STANDARD
TZOFFSETFROM:-0400
TZOFFSETTO:-0500
TZNAME:EST
DTSTART:20201101T060000
END:STANDARD
BEGIN:DAYLIGHT
TZOFFSETFROM:-0500
TZOFFSETTO:-0400
TZNAME:EDT
DTSTART:20210314T070000
END:DAYLIGHT
BEGIN:STANDARD
TZOFFSETFROM:-0400
TZOFFSETTO:-0500
TZNAME:EST
DTSTART:20211107T060000
END:STANDARD
BEGIN:DAYLIGHT
TZOFFSETFROM:-0500
TZOFFSETTO:-0400
TZNAME:EDT
DTSTART:20220313T070000
END:DAYLIGHT
BEGIN:STANDARD
TZOFFSETFROM:-0400
TZOFFSETTO:-0500
TZNAME:EST
DTSTART:20221106T060000
END:STANDARD
BEGIN:DAYLIGHT
TZOFFSETFROM:-0500
TZOFFSETTO:-0400
TZNAME:EDT
DTSTART:20230312T070000
END:DAYLIGHT
BEGIN:STANDARD
TZOFFSETFROM:-0400
TZOFFSETTO:-0500
TZNAME:EST
DTSTART:20231105T060000
END:STANDARD
BEGIN:DAYLIGHT
TZOFFSETFROM:-0500
TZOFFSETTO:-0400
TZNAME:EDT
DTSTART:20240310T070000
END:DAYLIGHT
BEGIN:STANDARD
TZOFFSETFROM:-0400
TZOFFSETTO:-0500
TZNAME:EST
DTSTART:20241103T060000
END:STANDARD
BEGIN:DAYLIGHT
TZOFFSETFROM:-0500
TZOFFSETTO:-0400
TZNAME:EDT
DTSTART:20250309T070000
END:DAYLIGHT
BEGIN:STANDARD
TZOFFSETFROM:-0400
TZOFFSETTO:-0500
TZNAME:EST
DTSTART:20251102T060000
END:STANDARD
BEGIN:DAYLIGHT
TZOFFSETFROM:-0500
TZOFFSETTO:-0400
TZNAME:EDT
DTSTART:20260308T070000
END:DAYLIGHT
BEGIN:STANDARD
TZOFFSETFROM:-0400
TZOFFSETTO:-0500
TZNAME:EST
DTSTART:20261101T060000
END:STANDARD
END:VTIMEZONE
BEGIN:VTIMEZONE
TZID:UTC
BEGIN:STANDARD
TZOFFSETFROM:+0000
TZOFFSETTO:+0000
TZNAME:UTC
DTSTART:20210101T000000
END:STANDARD
END:VTIMEZONE
BEGIN:VTIMEZONE
TZID:America/Los_Angeles
BEGIN:DAYLIGHT
TZOFFSETFROM:-0800
TZOFFSETTO:-0700
TZNAME:PDT
DTSTART:20210314T100000
END:DAYLIGHT
BEGIN:STANDARD
TZOFFSETFROM:-0700
TZOFFSETTO:-0800
TZNAME:PST
DTSTART:20211107T090000
END:STANDARD
BEGIN:DAYLIGHT
TZOFFSETFROM:-0800
TZOFFSETTO:-0700
TZNAME:PDT
DTSTART:20220313T100000
END:DAYLIGHT
BEGIN:STANDARD
TZOFFSETFROM:-0700
TZOFFSETTO:-0800
TZNAME:PST
DTSTART:20221106T090000
END:STANDARD
BEGIN:DAYLIGHT
TZOFFSETFROM:-0800
TZOFFSETTO:-0700
TZNAME:PDT
DTSTART:20230312T100000
END:DAYLIGHT
BEGIN:STANDARD
TZOFFSETFROM:-0700
TZOFFSETTO:-0800
TZNAME:PST
DTSTART:20231105T090000
END:STANDARD
END:VTIMEZONE
BEGIN:VEVENT
DTSTART;VALUE=DATE:20250204
DTEND;VALUE=DATE:20250208
DTSTAMP:20260425T122520
CREATED:20241116T151940Z
LAST-MODIFIED:20241116T151940Z
UID:3304-1738627200-1738972799@peelergroup.com
SUMMARY:2025 ATAP Winter Conference
DESCRIPTION:Peeler Group International proudly announces that Bill Peeler will represent PGI at the 2025 ATAP Winter Conference\, which will be hosted by the Association of Threat Assessment Professionals (ATAP) in collaboration with the Florida Department of Law Enforcement. \nThis essential conference will focus on critical issues surrounding the prevention of targeted violence\, including mass shootings\, workplace violence\, school and campus safety\, domestic violence\, and the protection of public figures. Attendees will gain valuable insights from nationally recognized speakers on current research\, techniques\, and threat assessment and violence prevention strategies. \nWho Should Attend\nThis event is tailored for professionals across a range of industries\, including law enforcement\, corporate security\, legal and HR teams\, mental health professionals\, executive protection specialists\, and school and university administrators. \nWe invite clients\, colleagues\, and attendees to schedule a one-on-one meeting with Bill Peeler during the event. This is a unique opportunity to discuss your security and threat assessment needs and learn how Peeler Group International can help your organization navigate today’s challenges. \nTo schedule a meeting with Bill\, please reach out via the email address on our website. \nJoin us in Orlando for this must-attend event in the threat assessment and violence prevention field!
URL:https://peelergroup.com/event/2025-atap-winter-conference/
CATEGORIES:Security Conference
ATTACH;FMTTYPE=image/png:https://peelergroup.com/wp-content/uploads/2024/11/ATAP-2025-Winter-Conference.png
END:VEVENT
BEGIN:VEVENT
DTSTART;VALUE=DATE:20241209
DTEND;VALUE=DATE:20241212
DTSTAMP:20260425T122520
CREATED:20241116T145817Z
LAST-MODIFIED:20241116T150123Z
UID:3295-1733702400-1733961599@peelergroup.com
SUMMARY:IPSB 2024 Annual Close Protection Conference
DESCRIPTION:Peeler Group International is proud to announce our participation in the 2024 Close Protection Conference hosted by the International Protective Security Board (IPSB). As the original non-profit board dedicated to elevating standards and opportunities for executive protection professionals\, IPSB delivers an unparalleled educational and networking experience for seasoned providers\, aspiring EP specialists\, and representatives from all security industry sectors. \nThis year’s conference features a dynamic lineup of volunteer speakers and panelists\, true to IPSB’s motto: “By\, with\, and for the industry.” \nProudly Supporting the Event\nPeeler Group International is sponsoring a breakfast event at the conference\, and we invite attendees to join us for a meaningful start to the day filled with connection and conversation. \nWe encourage clients and interested professionals to schedule a one-on-one meeting with Bill Peeler during the event to discuss your security needs and explore how Peeler Group International can support your goals. \nLet’s connect! Contact us through our website email to arrange a meeting. \nWe look forward to seeing you in Nashville!
URL:https://peelergroup.com/event/ipsb-2024-annual-close-protection-conference/
LOCATION:Grand Hyatt Nashville\, 1000 Broadway\, Nashville\, TN\, 37203\, United States
CATEGORIES:Security Conference
ATTACH;FMTTYPE=image/webp:https://peelergroup.com/wp-content/uploads/2024/11/Close-Protection-Conference-2024.webp
END:VEVENT
BEGIN:VEVENT
DTSTART;VALUE=DATE:20241120
DTEND;VALUE=DATE:20241122
DTSTAMP:20260425T122520
CREATED:20241116T143628Z
LAST-MODIFIED:20241116T153202Z
UID:3286-1732060800-1732233599@peelergroup.com
SUMMARY:OSAC Annual Briefing
DESCRIPTION:Peeler Group International is proud to announce our participation in the 2024 OSAC Annual Briefing\, one of the most celebrated events on the international security community’s calendar. \nThis premier gathering brings together security professionals from the U.S. Department of State and the American private sector to discuss critical developments\, share best practices\, and strengthen partnerships in global security. As leaders in risk management and comprehensive security solutions\, we look forward to engaging with the broader community\, exchanging insights\, and exploring opportunities to enhance international safety and collaboration. \nWe encourage our partners and clients to join us at this invaluable event. If you’d like to schedule a meeting with our team during the briefing\, please contact us by email through our website.
URL:https://peelergroup.com/event/osac-annual-briefing/
CATEGORIES:Security Conference
ATTACH;FMTTYPE=image/webp:https://peelergroup.com/wp-content/uploads/2024/11/OSAC-State-Department-Briefing.webp
END:VEVENT
BEGIN:VEVENT
DTSTART;TZID=UTC:20230216T180000
DTEND;TZID=UTC:20230216T220000
DTSTAMP:20260425T122520
CREATED:20230113T194928Z
LAST-MODIFIED:20230113T194928Z
UID:2928-1676570400-1676584800@peelergroup.com
SUMMARY:Executive Protection Networking Event - "EP Mixer"
DESCRIPTION:Peeler Group International is pleased to join others as a sponsor of this event in North Palm Beach\, Florida. The event affords those in and those wanting to enter the Executive Protection industry the platform to meet similar-minded people and agency representatives to discuss the OPPORTUNITIES and trends in the business! \nPlease join us and expand your network\, say hello to associates\, or learn more about opportunities in the business of Executive Protection. \nBe sure to follow the link and register… We look forward to seeing you!
URL:https://peelergroup.com/event/executive-protection-networking-event-ep-mixer/
LOCATION:Duffy’s Sports Grill\, 11588 US-1\, North Palm Beach\, FL\, 33408\, United States
CATEGORIES:EP Networking
ATTACH;FMTTYPE=image/jpeg:https://peelergroup.com/wp-content/uploads/2023/01/Ep-Mixer-Palm-Beah-Feb-2023.jpg
ORGANIZER;CN="EP Mixer":MAILTO:craig@epmixer.com
END:VEVENT
BEGIN:VEVENT
DTSTART;TZID=America/Los_Angeles:20221209T100000
DTEND;TZID=America/Los_Angeles:20221209T103000
DTSTAMP:20260425T122520
CREATED:20221125T222950Z
LAST-MODIFIED:20221125T222950Z
UID:2913-1670580000-1670581800@peelergroup.com
SUMMARY:Bill Peeler to Speak at the 2022 Close Protection Conference
DESCRIPTION:
URL:https://peelergroup.com/event/bill-peeler-to-speak-at-the-2022-close-protection-conference/
LOCATION:Westgate Resort Las Vegas\, NV\, 3000 Paradise Road\, Las Vegas\, NV\, 89109\, United States
CATEGORIES:Security Conference
ATTACH;FMTTYPE=image/png:https://peelergroup.com/wp-content/uploads/2022/04/Bill-Web-215x300-2-removebg-preview.png
END:VEVENT
BEGIN:VEVENT
DTSTART;TZID=UTC:20221207T090000
DTEND;TZID=UTC:20221209T170000
DTSTAMP:20260425T122520
CREATED:20221125T222238Z
LAST-MODIFIED:20221125T223226Z
UID:2910-1670403600-1670605200@peelergroup.com
SUMMARY:Close Protection Conference
DESCRIPTION:The annual Close Protection Conference will again be in Las Vegas\, Nevada. Please come out and join us and say hello. Visit the many vendors and hear some engaging speakers at the 2022 Conference! \nFor the agenda and information visit: https://ips-board.org/2022-agenda/ \n 
URL:https://peelergroup.com/event/close-protection-conference/
LOCATION:Westgate Resort Las Vegas\, NV\, 3000 Paradise Road\, Las Vegas\, NV\, 89109\, United States
CATEGORIES:Security Conference
ATTACH;FMTTYPE=image/png:https://peelergroup.com/wp-content/uploads/2021/11/IPSB-Board.png
END:VEVENT
BEGIN:VEVENT
DTSTART;TZID=UTC:20220429T080000
DTEND;TZID=UTC:20220429T123000
DTSTAMP:20260425T122520
CREATED:20220422T170909Z
LAST-MODIFIED:20220422T170909Z
UID:2854-1651219200-1651235400@peelergroup.com
SUMMARY:LEARNING AND DEVELOPMENT PRIORITIES FOR EP FORUM
DESCRIPTION:Join Bill Peeler and other speakers for this forum. Bill is expected to speak on training in Celebrity Protection.
URL:https://peelergroup.com/event/learning-and-development-priorities-for-ep-forum/
LOCATION:Online Forum
CATEGORIES:Security Conference
ATTACH;FMTTYPE=image/jpeg:https://peelergroup.com/wp-content/uploads/2022/04/Bill-Peeler-Learning-and-Development-Priorities-for-EP-Forum3.jpg
END:VEVENT
BEGIN:VEVENT
DTSTART;TZID=America/New_York:20220208T080000
DTEND;TZID=America/New_York:20220208T090000
DTSTAMP:20260425T122520
CREATED:20220124T204908Z
LAST-MODIFIED:20220124T204908Z
UID:2654-1644307200-1644310800@peelergroup.com
SUMMARY:"Mass gathering planning for mental health impacts\, fake it til you make it" - 15TH ANNUAL EMAT SYMPOSIUM
DESCRIPTION:Join RAFFAELE M. DI GIORGIO and PEGGY FONSECA as they discuss “Mass gathering planning for mental health impacts\, fake it til you make it. \nMass gatherings can potentially turn into mass casualty/mass fatality incidents in a matter of moments. This presentation will focus on integrating social norms\, mental health response\, intelligence gathering\, and public perceptions into your mass event planning efforts and operations. \n \n 
URL:https://peelergroup.com/event/mass-gathering-planning-for-mental-health-impacts-fake-it-til-you-make-it-15th-annual-emat-symposium/
LOCATION:Embassy Suites\, 1001 E McCarty Ln\, San Marcos\, 78666
CATEGORIES:Emergency Management Conference
ATTACH;FMTTYPE=image/png:https://peelergroup.com/wp-content/uploads/2022/01/emat-logo.png
END:VEVENT
BEGIN:VEVENT
DTSTART;TZID=America/New_York:20220207T130000
DTEND;TZID=America/New_York:20220207T140000
DTSTAMP:20260425T122520
CREATED:20220124T203849Z
LAST-MODIFIED:20220124T203950Z
UID:2644-1644238800-1644242400@peelergroup.com
SUMMARY:Tactical Medicine Myths\, Truths\, and Realities - 15TH ANNUAL EMAT SYMPOSIUM
DESCRIPTION:Join RAFFAELE M. DI GIORGIO as he discusses Tactical Medicine Myths\, Truths\, and Realities at the 15th Annual EMAT Symposium in San Marcos Texas. \nEmergency Managers are faced with how to protect our protectors -our emergency responders and the agencies they work for\, who go out every day and risk their lives to protect and serve the public. This presentation will highlight the common reasons why liability lawsuits occur with the use of tactical medical responders (Fire\, EMS\, Police)\, as well as how to prepare and protect yourself and your department.\n\nBased on the book Legal Considerations for Tactical Medical Responders: For Both the Individuals and Agencies\, Second Edition\n 
URL:https://peelergroup.com/event/tactical-medicine-myths-truths-and-realities-15th-annual-emat-symposium/
LOCATION:Embassy Suites\, 1001 E McCarty Ln\, San Marcos\, 78666
CATEGORIES:Emergency Management Conference
ATTACH;FMTTYPE=image/png:https://peelergroup.com/wp-content/uploads/2022/01/emat-logo.png
END:VEVENT
BEGIN:VEVENT
DTSTART;VALUE=DATE:20211208
DTEND;VALUE=DATE:20211211
DTSTAMP:20260425T122520
CREATED:20211127T174700Z
LAST-MODIFIED:20211127T174700Z
UID:2547-1638921600-1639180799@peelergroup.com
SUMMARY:2021 IPSB Close Protection Conference
DESCRIPTION:Representatives from Peeler Group International will be in attendance – come say hello. \n  \nPlease visit here for more details!
URL:https://peelergroup.com/event/2021-ipsb-close-protection-conference/
LOCATION:Westgate Resort Las Vegas\, NV\, 3000 Paradise Road\, Las Vegas\, NV\, 89109\, United States
CATEGORIES:Security Conference
END:VEVENT
BEGIN:VEVENT
DTSTART;TZID=America/New_York:20211111T090000
DTEND;TZID=America/New_York:20211111T160000
DTSTAMP:20260425T122520
CREATED:20211109T185011Z
LAST-MODIFIED:20211109T185011Z
UID:2491-1636621200-1636646400@peelergroup.com
SUMMARY:THIRD ANNUAL MANAGED SECURITY SERVICES FORUM MIAMI
DESCRIPTION:Join us ONLINE at the 3rd Annual Managed Security Services Forum Miami – \nBill Peeler will join twenty-nine other guests who will speak on various security-related subjects. Bill will participate with other panelists discussing “Challenges and Opportunities in Developing Security Services for Ultra High Net Worth Individuals” at 1:10 PM EST. \nWe hope to see you there! \nEvent Website: https://miami.mssconference.com \nAgenda Download: https://miami.mssconference.com/wp-content/uploads/2021/11/MSS-Miami-2021-Draft-Agenda-v3.6-1.pdf \nEvent Registration: https://www.eventbrite.co.uk/e/third-annual-managed-security-services-forum-miami-tickets-191632426747 \n 
URL:https://peelergroup.com/event/third-annual-managed-security-services-forum-miami/
CATEGORIES:Security Conference
ATTACH;FMTTYPE=image/png:https://peelergroup.com/wp-content/uploads/2021/11/Bill-Peeler-3rd-Annual-Management-Security-Services-Forum-Miami.png
END:VEVENT
BEGIN:VEVENT
DTSTART;TZID=America/New_York:20210415T140000
DTEND;TZID=America/New_York:20210415T200000
DTSTAMP:20260425T122520
CREATED:20210330T035630Z
LAST-MODIFIED:20210330T035630Z
UID:2374-1618495200-1618516800@peelergroup.com
SUMMARY:AI and Automation in the Security Industry
DESCRIPTION:Bill Peeler will participate in this forum with a panel. If you have yet to join one of these forums\, please do so – we think you will find it worthwhile. \nClick Here for the Full Agenda
URL:https://peelergroup.com/event/ai-and-automation-in-the-security-industry/
LOCATION:Zoom Conference
CATEGORIES:Security Conference
ATTACH;FMTTYPE=image/jpeg:https://peelergroup.com/wp-content/uploads/2021/03/AI-and-Automation-in-Security-Forum-Miami5.jpg
END:VEVENT
BEGIN:VEVENT
DTSTART;TZID=America/New_York:20210128T030000
DTEND;TZID=America/New_York:20210128T180000
DTSTAMP:20260425T122520
CREATED:20210115T194305Z
LAST-MODIFIED:20210127T132055Z
UID:2230-1611802800-1611856800@peelergroup.com
SUMMARY:Bill Peeler to Speak at the 2021 Executive Security Forum
DESCRIPTION:Bill Peeler is looking forward to speaking at the 6th Annual Executive Security & CP Technology Virtual Forum from London and hopes you will join him. \nAs a previous Keynote Speaker to this event\, Bill is delighted to return to the event again\, albeit in a virtual manner\, as a panelist to discuss “Understanding the Future of Travel Risk Management” with his co-panelist. \nOther subject matters discussed at this year’s forum include: \n\nThe Middle East & Regional Corporate Security Modernization\nYour New 3 Year Plan and the CSO of Tomorrow – Uncovering and Understanding the\nChanging Nature of Corporate Security Modernization\nGoing After the Big Fish? What to do about Whaling\nUnderstanding The Evolution of Access Control and Identity Management Post Covid19\nCorporate Security Mission Creep?\nUnderstanding the Modernization of Data Protection through Effective Physical Security\nUnderstanding the Importance of Hybrid TSCM for Your Operations: New Threats and New Countermeasure Opportunities\nGerman Corporate Security Modernization\nCovert Protection and International Travel\, Advantages and Disadvantages\nUnderstanding the Delicate Balance between Security to Prevent Incidents and Resilience Afterwards\nHow Can Tomorrow’s EP Professional Harness the Power of Evolving Technology?\nShifting Risk Paradigms in Secure Transportation\nDeveloping the Technical EP Professional of the Future\nCorporate Security Modernization in Mexico\nUnderstanding the psychology behind fixated individuals\nComparing and Contrasting your Future ESRM Strategies\nIPSB Future Collaboration Meeting\n\nThe whole event will conclude with a virtual network reception. \nWe hope you will make it to the Virtual Summit and if you do\, be sure to say hello to Bill! \n** Hosted from the UK\, opening hours are early – but you may jump in at any time to make a full day of your experience. \nMore Information: Conference Information \nEvent Registration: Conference Registration
URL:https://peelergroup.com/event/bill-peeler-to-speak-at-the-2021-executive-security-forum/
CATEGORIES:Security Conference
ATTACH;FMTTYPE=image/png:https://peelergroup.com/wp-content/uploads/2021/01/Bill-Peeler-Panelist-CPS-2021.png
END:VEVENT
END:VCALENDAR